BEGIN:VCALENDAR
VERSION:2.0
PRODID:-//St. Peter&#039;s Episcopal Church - ECPv6.15.20//NONSGML v1.0//EN
CALSCALE:GREGORIAN
METHOD:PUBLISH
X-ORIGINAL-URL:https://stpeters-smyrna.church
X-WR-CALDESC:Events for St. Peter&#039;s Episcopal Church
REFRESH-INTERVAL;VALUE=DURATION:PT1H
X-Robots-Tag:noindex
X-PUBLISHED-TTL:PT1H
BEGIN:VTIMEZONE
TZID:America/New_York
BEGIN:DAYLIGHT
TZOFFSETFROM:-0500
TZOFFSETTO:-0400
TZNAME:EDT
DTSTART:20270314T070000
END:DAYLIGHT
BEGIN:STANDARD
TZOFFSETFROM:-0400
TZOFFSETTO:-0500
TZNAME:EST
DTSTART:20271107T060000
END:STANDARD
BEGIN:DAYLIGHT
TZOFFSETFROM:-0500
TZOFFSETTO:-0400
TZNAME:EDT
DTSTART:20280312T070000
END:DAYLIGHT
BEGIN:STANDARD
TZOFFSETFROM:-0400
TZOFFSETTO:-0500
TZNAME:EST
DTSTART:20281105T060000
END:STANDARD
BEGIN:DAYLIGHT
TZOFFSETFROM:-0500
TZOFFSETTO:-0400
TZNAME:EDT
DTSTART:20290311T070000
END:DAYLIGHT
BEGIN:STANDARD
TZOFFSETFROM:-0400
TZOFFSETTO:-0500
TZNAME:EST
DTSTART:20291104T060000
END:STANDARD
END:VTIMEZONE
BEGIN:VEVENT
DTSTART;TZID=America/New_York:20280922T190000
DTEND;TZID=America/New_York:20280922T200000
DTSTAMP:20260422T002159
CREATED:20251218T175619Z
LAST-MODIFIED:20251218T175619Z
UID:10000468-1853262000-1853265600@stpeters-smyrna.church
SUMMARY:NA Meeting
DESCRIPTION:Narcotics Anonymous meetings are held here every Friday Night.
URL:https://stpeters-smyrna.church/calendar/na-meeting/2028-09-22/
LOCATION:St. Peter’s Episcopal Church\, 22 North Union Street\, Smyrna\, Delaware\, 19977\, United States
END:VEVENT
BEGIN:VEVENT
DTSTART;TZID=America/New_York:20280927T190000
DTEND;TZID=America/New_York:20280927T200000
DTSTAMP:20260422T002159
CREATED:20251218T175344Z
LAST-MODIFIED:20251218T175344Z
UID:10000207-1853694000-1853697600@stpeters-smyrna.church
SUMMARY:AA Meeting
DESCRIPTION:Alcoholics Anonymous meetings are held here every Wednesday night. \n24 Hour-a-day Hot Line is 302-736-1567
URL:https://stpeters-smyrna.church/calendar/aa-meeting/2028-09-27/
LOCATION:St. Peter’s Episcopal Church\, 22 North Union Street\, Smyrna\, Delaware\, 19977\, United States
END:VEVENT
BEGIN:VEVENT
DTSTART;TZID=America/New_York:20280929T190000
DTEND;TZID=America/New_York:20280929T200000
DTSTAMP:20260422T002159
CREATED:20251218T175619Z
LAST-MODIFIED:20251218T175619Z
UID:10000469-1853866800-1853870400@stpeters-smyrna.church
SUMMARY:NA Meeting
DESCRIPTION:Narcotics Anonymous meetings are held here every Friday Night.
URL:https://stpeters-smyrna.church/calendar/na-meeting/2028-09-29/
LOCATION:St. Peter’s Episcopal Church\, 22 North Union Street\, Smyrna\, Delaware\, 19977\, United States
END:VEVENT
BEGIN:VEVENT
DTSTART;TZID=America/New_York:20281004T190000
DTEND;TZID=America/New_York:20281004T200000
DTSTAMP:20260422T002159
CREATED:20251218T175344Z
LAST-MODIFIED:20251218T175344Z
UID:10000208-1854298800-1854302400@stpeters-smyrna.church
SUMMARY:AA Meeting
DESCRIPTION:Alcoholics Anonymous meetings are held here every Wednesday night. \n24 Hour-a-day Hot Line is 302-736-1567
URL:https://stpeters-smyrna.church/calendar/aa-meeting/2028-10-04/
LOCATION:St. Peter’s Episcopal Church\, 22 North Union Street\, Smyrna\, Delaware\, 19977\, United States
END:VEVENT
BEGIN:VEVENT
DTSTART;TZID=America/New_York:20281006T190000
DTEND;TZID=America/New_York:20281006T200000
DTSTAMP:20260422T002159
CREATED:20251218T175619Z
LAST-MODIFIED:20251218T175619Z
UID:10000470-1854471600-1854475200@stpeters-smyrna.church
SUMMARY:NA Meeting
DESCRIPTION:Narcotics Anonymous meetings are held here every Friday Night.
URL:https://stpeters-smyrna.church/calendar/na-meeting/2028-10-06/
LOCATION:St. Peter’s Episcopal Church\, 22 North Union Street\, Smyrna\, Delaware\, 19977\, United States
END:VEVENT
BEGIN:VEVENT
DTSTART;TZID=America/New_York:20281011T190000
DTEND;TZID=America/New_York:20281011T200000
DTSTAMP:20260422T002159
CREATED:20251218T175344Z
LAST-MODIFIED:20251218T175344Z
UID:10000209-1854903600-1854907200@stpeters-smyrna.church
SUMMARY:AA Meeting
DESCRIPTION:Alcoholics Anonymous meetings are held here every Wednesday night. \n24 Hour-a-day Hot Line is 302-736-1567
URL:https://stpeters-smyrna.church/calendar/aa-meeting/2028-10-11/
LOCATION:St. Peter’s Episcopal Church\, 22 North Union Street\, Smyrna\, Delaware\, 19977\, United States
END:VEVENT
BEGIN:VEVENT
DTSTART;TZID=America/New_York:20281013T190000
DTEND;TZID=America/New_York:20281013T200000
DTSTAMP:20260422T002159
CREATED:20251218T175619Z
LAST-MODIFIED:20251218T175619Z
UID:10000471-1855076400-1855080000@stpeters-smyrna.church
SUMMARY:NA Meeting
DESCRIPTION:Narcotics Anonymous meetings are held here every Friday Night.
URL:https://stpeters-smyrna.church/calendar/na-meeting/2028-10-13/
LOCATION:St. Peter’s Episcopal Church\, 22 North Union Street\, Smyrna\, Delaware\, 19977\, United States
END:VEVENT
BEGIN:VEVENT
DTSTART;TZID=America/New_York:20281015T103000
DTEND;TZID=America/New_York:20281015T120000
DTSTAMP:20260422T002159
CREATED:20251030T181717Z
LAST-MODIFIED:20251030T181717Z
UID:10000036-1855218600-1855224000@stpeters-smyrna.church
SUMMARY:Vestry Meeting
DESCRIPTION:
URL:https://stpeters-smyrna.church/calendar/vestry-meeting/2028-10-15/
LOCATION:Delaware
END:VEVENT
BEGIN:VEVENT
DTSTART;TZID=America/New_York:20281018T190000
DTEND;TZID=America/New_York:20281018T200000
DTSTAMP:20260422T002159
CREATED:20251218T175344Z
LAST-MODIFIED:20251218T175344Z
UID:10000210-1855508400-1855512000@stpeters-smyrna.church
SUMMARY:AA Meeting
DESCRIPTION:Alcoholics Anonymous meetings are held here every Wednesday night. \n24 Hour-a-day Hot Line is 302-736-1567
URL:https://stpeters-smyrna.church/calendar/aa-meeting/2028-10-18/
LOCATION:St. Peter’s Episcopal Church\, 22 North Union Street\, Smyrna\, Delaware\, 19977\, United States
END:VEVENT
BEGIN:VEVENT
DTSTART;TZID=America/New_York:20281020T190000
DTEND;TZID=America/New_York:20281020T200000
DTSTAMP:20260422T002159
CREATED:20251218T175619Z
LAST-MODIFIED:20251218T175619Z
UID:10000472-1855681200-1855684800@stpeters-smyrna.church
SUMMARY:NA Meeting
DESCRIPTION:Narcotics Anonymous meetings are held here every Friday Night.
URL:https://stpeters-smyrna.church/calendar/na-meeting/2028-10-20/
LOCATION:St. Peter’s Episcopal Church\, 22 North Union Street\, Smyrna\, Delaware\, 19977\, United States
END:VEVENT
BEGIN:VEVENT
DTSTART;TZID=America/New_York:20281025T190000
DTEND;TZID=America/New_York:20281025T200000
DTSTAMP:20260422T002200
CREATED:20251218T175344Z
LAST-MODIFIED:20251218T175344Z
UID:10000211-1856113200-1856116800@stpeters-smyrna.church
SUMMARY:AA Meeting
DESCRIPTION:Alcoholics Anonymous meetings are held here every Wednesday night. \n24 Hour-a-day Hot Line is 302-736-1567
URL:https://stpeters-smyrna.church/calendar/aa-meeting/2028-10-25/
LOCATION:St. Peter’s Episcopal Church\, 22 North Union Street\, Smyrna\, Delaware\, 19977\, United States
END:VEVENT
BEGIN:VEVENT
DTSTART;TZID=America/New_York:20281027T190000
DTEND;TZID=America/New_York:20281027T200000
DTSTAMP:20260422T002200
CREATED:20251218T175619Z
LAST-MODIFIED:20251218T175619Z
UID:10000473-1856286000-1856289600@stpeters-smyrna.church
SUMMARY:NA Meeting
DESCRIPTION:Narcotics Anonymous meetings are held here every Friday Night.
URL:https://stpeters-smyrna.church/calendar/na-meeting/2028-10-27/
LOCATION:St. Peter’s Episcopal Church\, 22 North Union Street\, Smyrna\, Delaware\, 19977\, United States
END:VEVENT
BEGIN:VEVENT
DTSTART;TZID=America/New_York:20281101T190000
DTEND;TZID=America/New_York:20281101T200000
DTSTAMP:20260422T002200
CREATED:20251218T175344Z
LAST-MODIFIED:20251218T175344Z
UID:10000212-1856718000-1856721600@stpeters-smyrna.church
SUMMARY:AA Meeting
DESCRIPTION:Alcoholics Anonymous meetings are held here every Wednesday night. \n24 Hour-a-day Hot Line is 302-736-1567
URL:https://stpeters-smyrna.church/calendar/aa-meeting/2028-11-01/
LOCATION:St. Peter’s Episcopal Church\, 22 North Union Street\, Smyrna\, Delaware\, 19977\, United States
END:VEVENT
BEGIN:VEVENT
DTSTART;TZID=America/New_York:20281103T190000
DTEND;TZID=America/New_York:20281103T200000
DTSTAMP:20260422T002200
CREATED:20251218T175619Z
LAST-MODIFIED:20251218T175619Z
UID:10000474-1856890800-1856894400@stpeters-smyrna.church
SUMMARY:NA Meeting
DESCRIPTION:Narcotics Anonymous meetings are held here every Friday Night.
URL:https://stpeters-smyrna.church/calendar/na-meeting/2028-11-03/
LOCATION:St. Peter’s Episcopal Church\, 22 North Union Street\, Smyrna\, Delaware\, 19977\, United States
END:VEVENT
BEGIN:VEVENT
DTSTART;TZID=America/New_York:20281108T190000
DTEND;TZID=America/New_York:20281108T200000
DTSTAMP:20260422T002200
CREATED:20251218T175344Z
LAST-MODIFIED:20251218T175344Z
UID:10000213-1857322800-1857326400@stpeters-smyrna.church
SUMMARY:AA Meeting
DESCRIPTION:Alcoholics Anonymous meetings are held here every Wednesday night. \n24 Hour-a-day Hot Line is 302-736-1567
URL:https://stpeters-smyrna.church/calendar/aa-meeting/2028-11-08/
LOCATION:St. Peter’s Episcopal Church\, 22 North Union Street\, Smyrna\, Delaware\, 19977\, United States
END:VEVENT
BEGIN:VEVENT
DTSTART;TZID=America/New_York:20281110T190000
DTEND;TZID=America/New_York:20281110T200000
DTSTAMP:20260422T002200
CREATED:20251218T175619Z
LAST-MODIFIED:20251218T175619Z
UID:10000475-1857495600-1857499200@stpeters-smyrna.church
SUMMARY:NA Meeting
DESCRIPTION:Narcotics Anonymous meetings are held here every Friday Night.
URL:https://stpeters-smyrna.church/calendar/na-meeting/2028-11-10/
LOCATION:St. Peter’s Episcopal Church\, 22 North Union Street\, Smyrna\, Delaware\, 19977\, United States
END:VEVENT
BEGIN:VEVENT
DTSTART;TZID=America/New_York:20281115T190000
DTEND;TZID=America/New_York:20281115T200000
DTSTAMP:20260422T002200
CREATED:20251218T175344Z
LAST-MODIFIED:20251218T175344Z
UID:10000214-1857927600-1857931200@stpeters-smyrna.church
SUMMARY:AA Meeting
DESCRIPTION:Alcoholics Anonymous meetings are held here every Wednesday night. \n24 Hour-a-day Hot Line is 302-736-1567
URL:https://stpeters-smyrna.church/calendar/aa-meeting/2028-11-15/
LOCATION:St. Peter’s Episcopal Church\, 22 North Union Street\, Smyrna\, Delaware\, 19977\, United States
END:VEVENT
BEGIN:VEVENT
DTSTART;TZID=America/New_York:20281117T190000
DTEND;TZID=America/New_York:20281117T200000
DTSTAMP:20260422T002200
CREATED:20251218T175619Z
LAST-MODIFIED:20251218T175619Z
UID:10000476-1858100400-1858104000@stpeters-smyrna.church
SUMMARY:NA Meeting
DESCRIPTION:Narcotics Anonymous meetings are held here every Friday Night.
URL:https://stpeters-smyrna.church/calendar/na-meeting/2028-11-17/
LOCATION:St. Peter’s Episcopal Church\, 22 North Union Street\, Smyrna\, Delaware\, 19977\, United States
END:VEVENT
BEGIN:VEVENT
DTSTART;TZID=America/New_York:20281119T103000
DTEND;TZID=America/New_York:20281119T120000
DTSTAMP:20260422T002200
CREATED:20251030T181717Z
LAST-MODIFIED:20251030T181717Z
UID:10000037-1858242600-1858248000@stpeters-smyrna.church
SUMMARY:Vestry Meeting
DESCRIPTION:
URL:https://stpeters-smyrna.church/calendar/vestry-meeting/2028-11-19/
LOCATION:Delaware
END:VEVENT
BEGIN:VEVENT
DTSTART;TZID=America/New_York:20281122T190000
DTEND;TZID=America/New_York:20281122T200000
DTSTAMP:20260422T002200
CREATED:20251218T175344Z
LAST-MODIFIED:20251218T175344Z
UID:10000215-1858532400-1858536000@stpeters-smyrna.church
SUMMARY:AA Meeting
DESCRIPTION:Alcoholics Anonymous meetings are held here every Wednesday night. \n24 Hour-a-day Hot Line is 302-736-1567
URL:https://stpeters-smyrna.church/calendar/aa-meeting/2028-11-22/
LOCATION:St. Peter’s Episcopal Church\, 22 North Union Street\, Smyrna\, Delaware\, 19977\, United States
END:VEVENT
BEGIN:VEVENT
DTSTART;TZID=America/New_York:20281124T190000
DTEND;TZID=America/New_York:20281124T200000
DTSTAMP:20260422T002200
CREATED:20251218T175619Z
LAST-MODIFIED:20251218T175619Z
UID:10000477-1858705200-1858708800@stpeters-smyrna.church
SUMMARY:NA Meeting
DESCRIPTION:Narcotics Anonymous meetings are held here every Friday Night.
URL:https://stpeters-smyrna.church/calendar/na-meeting/2028-11-24/
LOCATION:St. Peter’s Episcopal Church\, 22 North Union Street\, Smyrna\, Delaware\, 19977\, United States
END:VEVENT
BEGIN:VEVENT
DTSTART;TZID=America/New_York:20281129T190000
DTEND;TZID=America/New_York:20281129T200000
DTSTAMP:20260422T002200
CREATED:20251218T175344Z
LAST-MODIFIED:20251218T175344Z
UID:10000216-1859137200-1859140800@stpeters-smyrna.church
SUMMARY:AA Meeting
DESCRIPTION:Alcoholics Anonymous meetings are held here every Wednesday night. \n24 Hour-a-day Hot Line is 302-736-1567
URL:https://stpeters-smyrna.church/calendar/aa-meeting/2028-11-29/
LOCATION:St. Peter’s Episcopal Church\, 22 North Union Street\, Smyrna\, Delaware\, 19977\, United States
END:VEVENT
BEGIN:VEVENT
DTSTART;TZID=America/New_York:20281201T190000
DTEND;TZID=America/New_York:20281201T200000
DTSTAMP:20260422T002200
CREATED:20251218T175619Z
LAST-MODIFIED:20251218T175619Z
UID:10000478-1859310000-1859313600@stpeters-smyrna.church
SUMMARY:NA Meeting
DESCRIPTION:Narcotics Anonymous meetings are held here every Friday Night.
URL:https://stpeters-smyrna.church/calendar/na-meeting/2028-12-01/
LOCATION:St. Peter’s Episcopal Church\, 22 North Union Street\, Smyrna\, Delaware\, 19977\, United States
END:VEVENT
BEGIN:VEVENT
DTSTART;TZID=America/New_York:20281206T190000
DTEND;TZID=America/New_York:20281206T200000
DTSTAMP:20260422T002200
CREATED:20251218T175344Z
LAST-MODIFIED:20251218T175344Z
UID:10000217-1859742000-1859745600@stpeters-smyrna.church
SUMMARY:AA Meeting
DESCRIPTION:Alcoholics Anonymous meetings are held here every Wednesday night. \n24 Hour-a-day Hot Line is 302-736-1567
URL:https://stpeters-smyrna.church/calendar/aa-meeting/2028-12-06/
LOCATION:St. Peter’s Episcopal Church\, 22 North Union Street\, Smyrna\, Delaware\, 19977\, United States
END:VEVENT
BEGIN:VEVENT
DTSTART;TZID=America/New_York:20281208T190000
DTEND;TZID=America/New_York:20281208T200000
DTSTAMP:20260422T002200
CREATED:20251218T175619Z
LAST-MODIFIED:20251218T175619Z
UID:10000479-1859914800-1859918400@stpeters-smyrna.church
SUMMARY:NA Meeting
DESCRIPTION:Narcotics Anonymous meetings are held here every Friday Night.
URL:https://stpeters-smyrna.church/calendar/na-meeting/2028-12-08/
LOCATION:St. Peter’s Episcopal Church\, 22 North Union Street\, Smyrna\, Delaware\, 19977\, United States
END:VEVENT
BEGIN:VEVENT
DTSTART;TZID=America/New_York:20281213T190000
DTEND;TZID=America/New_York:20281213T200000
DTSTAMP:20260422T002200
CREATED:20251218T175344Z
LAST-MODIFIED:20251218T175344Z
UID:10000218-1860346800-1860350400@stpeters-smyrna.church
SUMMARY:AA Meeting
DESCRIPTION:Alcoholics Anonymous meetings are held here every Wednesday night. \n24 Hour-a-day Hot Line is 302-736-1567
URL:https://stpeters-smyrna.church/calendar/aa-meeting/2028-12-13/
LOCATION:St. Peter’s Episcopal Church\, 22 North Union Street\, Smyrna\, Delaware\, 19977\, United States
END:VEVENT
BEGIN:VEVENT
DTSTART;TZID=America/New_York:20281215T190000
DTEND;TZID=America/New_York:20281215T200000
DTSTAMP:20260422T002200
CREATED:20251218T175619Z
LAST-MODIFIED:20251218T175619Z
UID:10000480-1860519600-1860523200@stpeters-smyrna.church
SUMMARY:NA Meeting
DESCRIPTION:Narcotics Anonymous meetings are held here every Friday Night.
URL:https://stpeters-smyrna.church/calendar/na-meeting/2028-12-15/
LOCATION:St. Peter’s Episcopal Church\, 22 North Union Street\, Smyrna\, Delaware\, 19977\, United States
END:VEVENT
BEGIN:VEVENT
DTSTART;TZID=America/New_York:20281217T103000
DTEND;TZID=America/New_York:20281217T120000
DTSTAMP:20260422T002200
CREATED:20251030T181717Z
LAST-MODIFIED:20251030T181717Z
UID:10000038-1860661800-1860667200@stpeters-smyrna.church
SUMMARY:Vestry Meeting
DESCRIPTION:
URL:https://stpeters-smyrna.church/calendar/vestry-meeting/2028-12-17/
LOCATION:Delaware
END:VEVENT
BEGIN:VEVENT
DTSTART;TZID=America/New_York:20281220T190000
DTEND;TZID=America/New_York:20281220T200000
DTSTAMP:20260422T002200
CREATED:20251218T175344Z
LAST-MODIFIED:20251218T175344Z
UID:10000219-1860951600-1860955200@stpeters-smyrna.church
SUMMARY:AA Meeting
DESCRIPTION:Alcoholics Anonymous meetings are held here every Wednesday night. \n24 Hour-a-day Hot Line is 302-736-1567
URL:https://stpeters-smyrna.church/calendar/aa-meeting/2028-12-20/
LOCATION:St. Peter’s Episcopal Church\, 22 North Union Street\, Smyrna\, Delaware\, 19977\, United States
END:VEVENT
BEGIN:VEVENT
DTSTART;TZID=America/New_York:20281222T190000
DTEND;TZID=America/New_York:20281222T200000
DTSTAMP:20260422T002200
CREATED:20251218T175619Z
LAST-MODIFIED:20251218T175619Z
UID:10000481-1861124400-1861128000@stpeters-smyrna.church
SUMMARY:NA Meeting
DESCRIPTION:Narcotics Anonymous meetings are held here every Friday Night.
URL:https://stpeters-smyrna.church/calendar/na-meeting/2028-12-22/
LOCATION:St. Peter’s Episcopal Church\, 22 North Union Street\, Smyrna\, Delaware\, 19977\, United States
END:VEVENT
END:VCALENDAR