BEGIN:VCALENDAR
VERSION:2.0
PRODID:-//St. Peter&#039;s Episcopal Church - ECPv6.15.20//NONSGML v1.0//EN
CALSCALE:GREGORIAN
METHOD:PUBLISH
X-ORIGINAL-URL:https://stpeters-smyrna.church
X-WR-CALDESC:Events for St. Peter&#039;s Episcopal Church
REFRESH-INTERVAL;VALUE=DURATION:PT1H
X-Robots-Tag:noindex
X-PUBLISHED-TTL:PT1H
BEGIN:VTIMEZONE
TZID:America/New_York
BEGIN:DAYLIGHT
TZOFFSETFROM:-0500
TZOFFSETTO:-0400
TZNAME:EDT
DTSTART:20270314T070000
END:DAYLIGHT
BEGIN:STANDARD
TZOFFSETFROM:-0400
TZOFFSETTO:-0500
TZNAME:EST
DTSTART:20271107T060000
END:STANDARD
BEGIN:DAYLIGHT
TZOFFSETFROM:-0500
TZOFFSETTO:-0400
TZNAME:EDT
DTSTART:20280312T070000
END:DAYLIGHT
BEGIN:STANDARD
TZOFFSETFROM:-0400
TZOFFSETTO:-0500
TZNAME:EST
DTSTART:20281105T060000
END:STANDARD
BEGIN:DAYLIGHT
TZOFFSETFROM:-0500
TZOFFSETTO:-0400
TZNAME:EDT
DTSTART:20290311T070000
END:DAYLIGHT
BEGIN:STANDARD
TZOFFSETFROM:-0400
TZOFFSETTO:-0500
TZNAME:EST
DTSTART:20291104T060000
END:STANDARD
BEGIN:DAYLIGHT
TZOFFSETFROM:-0500
TZOFFSETTO:-0400
TZNAME:EDT
DTSTART:20300310T070000
END:DAYLIGHT
BEGIN:STANDARD
TZOFFSETFROM:-0400
TZOFFSETTO:-0500
TZNAME:EST
DTSTART:20301103T060000
END:STANDARD
END:VTIMEZONE
BEGIN:VEVENT
DTSTART;TZID=America/New_York:20281206T190000
DTEND;TZID=America/New_York:20281206T200000
DTSTAMP:20260422T033831
CREATED:20251218T175344Z
LAST-MODIFIED:20251218T175344Z
UID:10000217-1859742000-1859745600@stpeters-smyrna.church
SUMMARY:AA Meeting
DESCRIPTION:Alcoholics Anonymous meetings are held here every Wednesday night. \n24 Hour-a-day Hot Line is 302-736-1567
URL:https://stpeters-smyrna.church/calendar/aa-meeting/2028-12-06/
LOCATION:St. Peter’s Episcopal Church\, 22 North Union Street\, Smyrna\, Delaware\, 19977\, United States
END:VEVENT
BEGIN:VEVENT
DTSTART;TZID=America/New_York:20281208T190000
DTEND;TZID=America/New_York:20281208T200000
DTSTAMP:20260422T033831
CREATED:20251218T175619Z
LAST-MODIFIED:20251218T175619Z
UID:10000479-1859914800-1859918400@stpeters-smyrna.church
SUMMARY:NA Meeting
DESCRIPTION:Narcotics Anonymous meetings are held here every Friday Night.
URL:https://stpeters-smyrna.church/calendar/na-meeting/2028-12-08/
LOCATION:St. Peter’s Episcopal Church\, 22 North Union Street\, Smyrna\, Delaware\, 19977\, United States
END:VEVENT
BEGIN:VEVENT
DTSTART;TZID=America/New_York:20281213T190000
DTEND;TZID=America/New_York:20281213T200000
DTSTAMP:20260422T033831
CREATED:20251218T175344Z
LAST-MODIFIED:20251218T175344Z
UID:10000218-1860346800-1860350400@stpeters-smyrna.church
SUMMARY:AA Meeting
DESCRIPTION:Alcoholics Anonymous meetings are held here every Wednesday night. \n24 Hour-a-day Hot Line is 302-736-1567
URL:https://stpeters-smyrna.church/calendar/aa-meeting/2028-12-13/
LOCATION:St. Peter’s Episcopal Church\, 22 North Union Street\, Smyrna\, Delaware\, 19977\, United States
END:VEVENT
BEGIN:VEVENT
DTSTART;TZID=America/New_York:20281215T190000
DTEND;TZID=America/New_York:20281215T200000
DTSTAMP:20260422T033831
CREATED:20251218T175619Z
LAST-MODIFIED:20251218T175619Z
UID:10000480-1860519600-1860523200@stpeters-smyrna.church
SUMMARY:NA Meeting
DESCRIPTION:Narcotics Anonymous meetings are held here every Friday Night.
URL:https://stpeters-smyrna.church/calendar/na-meeting/2028-12-15/
LOCATION:St. Peter’s Episcopal Church\, 22 North Union Street\, Smyrna\, Delaware\, 19977\, United States
END:VEVENT
BEGIN:VEVENT
DTSTART;TZID=America/New_York:20281217T103000
DTEND;TZID=America/New_York:20281217T120000
DTSTAMP:20260422T033831
CREATED:20251030T181717Z
LAST-MODIFIED:20251030T181717Z
UID:10000038-1860661800-1860667200@stpeters-smyrna.church
SUMMARY:Vestry Meeting
DESCRIPTION:
URL:https://stpeters-smyrna.church/calendar/vestry-meeting/2028-12-17/
LOCATION:Delaware
END:VEVENT
BEGIN:VEVENT
DTSTART;TZID=America/New_York:20281220T190000
DTEND;TZID=America/New_York:20281220T200000
DTSTAMP:20260422T033831
CREATED:20251218T175344Z
LAST-MODIFIED:20251218T175344Z
UID:10000219-1860951600-1860955200@stpeters-smyrna.church
SUMMARY:AA Meeting
DESCRIPTION:Alcoholics Anonymous meetings are held here every Wednesday night. \n24 Hour-a-day Hot Line is 302-736-1567
URL:https://stpeters-smyrna.church/calendar/aa-meeting/2028-12-20/
LOCATION:St. Peter’s Episcopal Church\, 22 North Union Street\, Smyrna\, Delaware\, 19977\, United States
END:VEVENT
BEGIN:VEVENT
DTSTART;TZID=America/New_York:20281222T190000
DTEND;TZID=America/New_York:20281222T200000
DTSTAMP:20260422T033831
CREATED:20251218T175619Z
LAST-MODIFIED:20251218T175619Z
UID:10000481-1861124400-1861128000@stpeters-smyrna.church
SUMMARY:NA Meeting
DESCRIPTION:Narcotics Anonymous meetings are held here every Friday Night.
URL:https://stpeters-smyrna.church/calendar/na-meeting/2028-12-22/
LOCATION:St. Peter’s Episcopal Church\, 22 North Union Street\, Smyrna\, Delaware\, 19977\, United States
END:VEVENT
BEGIN:VEVENT
DTSTART;TZID=America/New_York:20281227T190000
DTEND;TZID=America/New_York:20281227T200000
DTSTAMP:20260422T033831
CREATED:20251218T175344Z
LAST-MODIFIED:20251218T175344Z
UID:10000220-1861556400-1861560000@stpeters-smyrna.church
SUMMARY:AA Meeting
DESCRIPTION:Alcoholics Anonymous meetings are held here every Wednesday night. \n24 Hour-a-day Hot Line is 302-736-1567
URL:https://stpeters-smyrna.church/calendar/aa-meeting/2028-12-27/
LOCATION:St. Peter’s Episcopal Church\, 22 North Union Street\, Smyrna\, Delaware\, 19977\, United States
END:VEVENT
BEGIN:VEVENT
DTSTART;TZID=America/New_York:20281229T190000
DTEND;TZID=America/New_York:20281229T200000
DTSTAMP:20260422T033831
CREATED:20251218T175619Z
LAST-MODIFIED:20251218T175619Z
UID:10000482-1861729200-1861732800@stpeters-smyrna.church
SUMMARY:NA Meeting
DESCRIPTION:Narcotics Anonymous meetings are held here every Friday Night.
URL:https://stpeters-smyrna.church/calendar/na-meeting/2028-12-29/
LOCATION:St. Peter’s Episcopal Church\, 22 North Union Street\, Smyrna\, Delaware\, 19977\, United States
END:VEVENT
BEGIN:VEVENT
DTSTART;TZID=America/New_York:20290103T190000
DTEND;TZID=America/New_York:20290103T200000
DTSTAMP:20260422T033832
CREATED:20251218T175344Z
LAST-MODIFIED:20251218T175344Z
UID:10000221-1862161200-1862164800@stpeters-smyrna.church
SUMMARY:AA Meeting
DESCRIPTION:Alcoholics Anonymous meetings are held here every Wednesday night. \n24 Hour-a-day Hot Line is 302-736-1567
URL:https://stpeters-smyrna.church/calendar/aa-meeting/2029-01-03/
LOCATION:St. Peter’s Episcopal Church\, 22 North Union Street\, Smyrna\, Delaware\, 19977\, United States
END:VEVENT
BEGIN:VEVENT
DTSTART;TZID=America/New_York:20290105T190000
DTEND;TZID=America/New_York:20290105T200000
DTSTAMP:20260422T033832
CREATED:20251218T175619Z
LAST-MODIFIED:20251218T175619Z
UID:10000483-1862334000-1862337600@stpeters-smyrna.church
SUMMARY:NA Meeting
DESCRIPTION:Narcotics Anonymous meetings are held here every Friday Night.
URL:https://stpeters-smyrna.church/calendar/na-meeting/2029-01-05/
LOCATION:St. Peter’s Episcopal Church\, 22 North Union Street\, Smyrna\, Delaware\, 19977\, United States
END:VEVENT
BEGIN:VEVENT
DTSTART;TZID=America/New_York:20290110T190000
DTEND;TZID=America/New_York:20290110T200000
DTSTAMP:20260422T033832
CREATED:20251218T175344Z
LAST-MODIFIED:20251218T175344Z
UID:10000222-1862766000-1862769600@stpeters-smyrna.church
SUMMARY:AA Meeting
DESCRIPTION:Alcoholics Anonymous meetings are held here every Wednesday night. \n24 Hour-a-day Hot Line is 302-736-1567
URL:https://stpeters-smyrna.church/calendar/aa-meeting/2029-01-10/
LOCATION:St. Peter’s Episcopal Church\, 22 North Union Street\, Smyrna\, Delaware\, 19977\, United States
END:VEVENT
BEGIN:VEVENT
DTSTART;TZID=America/New_York:20290112T190000
DTEND;TZID=America/New_York:20290112T200000
DTSTAMP:20260422T033832
CREATED:20251218T175619Z
LAST-MODIFIED:20251218T175619Z
UID:10000484-1862938800-1862942400@stpeters-smyrna.church
SUMMARY:NA Meeting
DESCRIPTION:Narcotics Anonymous meetings are held here every Friday Night.
URL:https://stpeters-smyrna.church/calendar/na-meeting/2029-01-12/
LOCATION:St. Peter’s Episcopal Church\, 22 North Union Street\, Smyrna\, Delaware\, 19977\, United States
END:VEVENT
BEGIN:VEVENT
DTSTART;TZID=America/New_York:20290117T190000
DTEND;TZID=America/New_York:20290117T200000
DTSTAMP:20260422T033832
CREATED:20251218T175344Z
LAST-MODIFIED:20251218T175344Z
UID:10000223-1863370800-1863374400@stpeters-smyrna.church
SUMMARY:AA Meeting
DESCRIPTION:Alcoholics Anonymous meetings are held here every Wednesday night. \n24 Hour-a-day Hot Line is 302-736-1567
URL:https://stpeters-smyrna.church/calendar/aa-meeting/2029-01-17/
LOCATION:St. Peter’s Episcopal Church\, 22 North Union Street\, Smyrna\, Delaware\, 19977\, United States
END:VEVENT
BEGIN:VEVENT
DTSTART;TZID=America/New_York:20290119T190000
DTEND;TZID=America/New_York:20290119T200000
DTSTAMP:20260422T033832
CREATED:20251218T175619Z
LAST-MODIFIED:20251218T175619Z
UID:10000485-1863543600-1863547200@stpeters-smyrna.church
SUMMARY:NA Meeting
DESCRIPTION:Narcotics Anonymous meetings are held here every Friday Night.
URL:https://stpeters-smyrna.church/calendar/na-meeting/2029-01-19/
LOCATION:St. Peter’s Episcopal Church\, 22 North Union Street\, Smyrna\, Delaware\, 19977\, United States
END:VEVENT
BEGIN:VEVENT
DTSTART;TZID=America/New_York:20290121T103000
DTEND;TZID=America/New_York:20290121T120000
DTSTAMP:20260422T033832
CREATED:20251030T181717Z
LAST-MODIFIED:20251030T181717Z
UID:10000039-1863685800-1863691200@stpeters-smyrna.church
SUMMARY:Vestry Meeting
DESCRIPTION:
URL:https://stpeters-smyrna.church/calendar/vestry-meeting/2029-01-21/
LOCATION:Delaware
END:VEVENT
BEGIN:VEVENT
DTSTART;TZID=America/New_York:20290124T190000
DTEND;TZID=America/New_York:20290124T200000
DTSTAMP:20260422T033832
CREATED:20251218T175344Z
LAST-MODIFIED:20251218T175344Z
UID:10000224-1863975600-1863979200@stpeters-smyrna.church
SUMMARY:AA Meeting
DESCRIPTION:Alcoholics Anonymous meetings are held here every Wednesday night. \n24 Hour-a-day Hot Line is 302-736-1567
URL:https://stpeters-smyrna.church/calendar/aa-meeting/2029-01-24/
LOCATION:St. Peter’s Episcopal Church\, 22 North Union Street\, Smyrna\, Delaware\, 19977\, United States
END:VEVENT
BEGIN:VEVENT
DTSTART;TZID=America/New_York:20290126T190000
DTEND;TZID=America/New_York:20290126T200000
DTSTAMP:20260422T033832
CREATED:20251218T175619Z
LAST-MODIFIED:20251218T175619Z
UID:10000486-1864148400-1864152000@stpeters-smyrna.church
SUMMARY:NA Meeting
DESCRIPTION:Narcotics Anonymous meetings are held here every Friday Night.
URL:https://stpeters-smyrna.church/calendar/na-meeting/2029-01-26/
LOCATION:St. Peter’s Episcopal Church\, 22 North Union Street\, Smyrna\, Delaware\, 19977\, United States
END:VEVENT
BEGIN:VEVENT
DTSTART;TZID=America/New_York:20290131T190000
DTEND;TZID=America/New_York:20290131T200000
DTSTAMP:20260422T033832
CREATED:20251218T175344Z
LAST-MODIFIED:20251218T175344Z
UID:10000225-1864580400-1864584000@stpeters-smyrna.church
SUMMARY:AA Meeting
DESCRIPTION:Alcoholics Anonymous meetings are held here every Wednesday night. \n24 Hour-a-day Hot Line is 302-736-1567
URL:https://stpeters-smyrna.church/calendar/aa-meeting/2029-01-31/
LOCATION:St. Peter’s Episcopal Church\, 22 North Union Street\, Smyrna\, Delaware\, 19977\, United States
END:VEVENT
BEGIN:VEVENT
DTSTART;TZID=America/New_York:20290202T190000
DTEND;TZID=America/New_York:20290202T200000
DTSTAMP:20260422T033832
CREATED:20251218T175619Z
LAST-MODIFIED:20251218T175619Z
UID:10000487-1864753200-1864756800@stpeters-smyrna.church
SUMMARY:NA Meeting
DESCRIPTION:Narcotics Anonymous meetings are held here every Friday Night.
URL:https://stpeters-smyrna.church/calendar/na-meeting/2029-02-02/
LOCATION:St. Peter’s Episcopal Church\, 22 North Union Street\, Smyrna\, Delaware\, 19977\, United States
END:VEVENT
BEGIN:VEVENT
DTSTART;TZID=America/New_York:20290207T190000
DTEND;TZID=America/New_York:20290207T200000
DTSTAMP:20260422T033832
CREATED:20251218T175344Z
LAST-MODIFIED:20251218T175344Z
UID:10000226-1865185200-1865188800@stpeters-smyrna.church
SUMMARY:AA Meeting
DESCRIPTION:Alcoholics Anonymous meetings are held here every Wednesday night. \n24 Hour-a-day Hot Line is 302-736-1567
URL:https://stpeters-smyrna.church/calendar/aa-meeting/2029-02-07/
LOCATION:St. Peter’s Episcopal Church\, 22 North Union Street\, Smyrna\, Delaware\, 19977\, United States
END:VEVENT
BEGIN:VEVENT
DTSTART;TZID=America/New_York:20290209T190000
DTEND;TZID=America/New_York:20290209T200000
DTSTAMP:20260422T033832
CREATED:20251218T175619Z
LAST-MODIFIED:20251218T175619Z
UID:10000488-1865358000-1865361600@stpeters-smyrna.church
SUMMARY:NA Meeting
DESCRIPTION:Narcotics Anonymous meetings are held here every Friday Night.
URL:https://stpeters-smyrna.church/calendar/na-meeting/2029-02-09/
LOCATION:St. Peter’s Episcopal Church\, 22 North Union Street\, Smyrna\, Delaware\, 19977\, United States
END:VEVENT
BEGIN:VEVENT
DTSTART;TZID=America/New_York:20290214T190000
DTEND;TZID=America/New_York:20290214T200000
DTSTAMP:20260422T033832
CREATED:20251218T175344Z
LAST-MODIFIED:20251218T175344Z
UID:10000227-1865790000-1865793600@stpeters-smyrna.church
SUMMARY:AA Meeting
DESCRIPTION:Alcoholics Anonymous meetings are held here every Wednesday night. \n24 Hour-a-day Hot Line is 302-736-1567
URL:https://stpeters-smyrna.church/calendar/aa-meeting/2029-02-14/
LOCATION:St. Peter’s Episcopal Church\, 22 North Union Street\, Smyrna\, Delaware\, 19977\, United States
END:VEVENT
BEGIN:VEVENT
DTSTART;TZID=America/New_York:20290216T190000
DTEND;TZID=America/New_York:20290216T200000
DTSTAMP:20260422T033832
CREATED:20251218T175619Z
LAST-MODIFIED:20251218T175619Z
UID:10000489-1865962800-1865966400@stpeters-smyrna.church
SUMMARY:NA Meeting
DESCRIPTION:Narcotics Anonymous meetings are held here every Friday Night.
URL:https://stpeters-smyrna.church/calendar/na-meeting/2029-02-16/
LOCATION:St. Peter’s Episcopal Church\, 22 North Union Street\, Smyrna\, Delaware\, 19977\, United States
END:VEVENT
BEGIN:VEVENT
DTSTART;TZID=America/New_York:20290218T103000
DTEND;TZID=America/New_York:20290218T120000
DTSTAMP:20260422T033832
CREATED:20251030T181717Z
LAST-MODIFIED:20251030T181717Z
UID:10000040-1866105000-1866110400@stpeters-smyrna.church
SUMMARY:Vestry Meeting
DESCRIPTION:
URL:https://stpeters-smyrna.church/calendar/vestry-meeting/2029-02-18/
LOCATION:Delaware
END:VEVENT
BEGIN:VEVENT
DTSTART;TZID=America/New_York:20290221T190000
DTEND;TZID=America/New_York:20290221T200000
DTSTAMP:20260422T033832
CREATED:20251218T175344Z
LAST-MODIFIED:20251218T175344Z
UID:10000228-1866394800-1866398400@stpeters-smyrna.church
SUMMARY:AA Meeting
DESCRIPTION:Alcoholics Anonymous meetings are held here every Wednesday night. \n24 Hour-a-day Hot Line is 302-736-1567
URL:https://stpeters-smyrna.church/calendar/aa-meeting/2029-02-21/
LOCATION:St. Peter’s Episcopal Church\, 22 North Union Street\, Smyrna\, Delaware\, 19977\, United States
END:VEVENT
BEGIN:VEVENT
DTSTART;TZID=America/New_York:20290223T190000
DTEND;TZID=America/New_York:20290223T200000
DTSTAMP:20260422T033832
CREATED:20251218T175619Z
LAST-MODIFIED:20251218T175619Z
UID:10000490-1866567600-1866571200@stpeters-smyrna.church
SUMMARY:NA Meeting
DESCRIPTION:Narcotics Anonymous meetings are held here every Friday Night.
URL:https://stpeters-smyrna.church/calendar/na-meeting/2029-02-23/
LOCATION:St. Peter’s Episcopal Church\, 22 North Union Street\, Smyrna\, Delaware\, 19977\, United States
END:VEVENT
BEGIN:VEVENT
DTSTART;TZID=America/New_York:20290228T190000
DTEND;TZID=America/New_York:20290228T200000
DTSTAMP:20260422T033832
CREATED:20251218T175344Z
LAST-MODIFIED:20251218T175344Z
UID:10000229-1866999600-1867003200@stpeters-smyrna.church
SUMMARY:AA Meeting
DESCRIPTION:Alcoholics Anonymous meetings are held here every Wednesday night. \n24 Hour-a-day Hot Line is 302-736-1567
URL:https://stpeters-smyrna.church/calendar/aa-meeting/2029-02-28/
LOCATION:St. Peter’s Episcopal Church\, 22 North Union Street\, Smyrna\, Delaware\, 19977\, United States
END:VEVENT
BEGIN:VEVENT
DTSTART;TZID=America/New_York:20290302T190000
DTEND;TZID=America/New_York:20290302T200000
DTSTAMP:20260422T033832
CREATED:20251218T175619Z
LAST-MODIFIED:20251218T175619Z
UID:10000491-1867172400-1867176000@stpeters-smyrna.church
SUMMARY:NA Meeting
DESCRIPTION:Narcotics Anonymous meetings are held here every Friday Night.
URL:https://stpeters-smyrna.church/calendar/na-meeting/2029-03-02/
LOCATION:St. Peter’s Episcopal Church\, 22 North Union Street\, Smyrna\, Delaware\, 19977\, United States
END:VEVENT
BEGIN:VEVENT
DTSTART;TZID=America/New_York:20290307T190000
DTEND;TZID=America/New_York:20290307T200000
DTSTAMP:20260422T033832
CREATED:20251218T175344Z
LAST-MODIFIED:20251218T175344Z
UID:10000230-1867604400-1867608000@stpeters-smyrna.church
SUMMARY:AA Meeting
DESCRIPTION:Alcoholics Anonymous meetings are held here every Wednesday night. \n24 Hour-a-day Hot Line is 302-736-1567
URL:https://stpeters-smyrna.church/calendar/aa-meeting/2029-03-07/
LOCATION:St. Peter’s Episcopal Church\, 22 North Union Street\, Smyrna\, Delaware\, 19977\, United States
END:VEVENT
END:VCALENDAR