BEGIN:VCALENDAR
VERSION:2.0
PRODID:-//St. Peter&#039;s Episcopal Church - ECPv6.15.20//NONSGML v1.0//EN
CALSCALE:GREGORIAN
METHOD:PUBLISH
X-WR-CALNAME:St. Peter&#039;s Episcopal Church
X-ORIGINAL-URL:https://stpeters-smyrna.church
X-WR-CALDESC:Events for St. Peter&#039;s Episcopal Church
REFRESH-INTERVAL;VALUE=DURATION:PT1H
X-Robots-Tag:noindex
X-PUBLISHED-TTL:PT1H
BEGIN:VTIMEZONE
TZID:America/New_York
BEGIN:DAYLIGHT
TZOFFSETFROM:-0500
TZOFFSETTO:-0400
TZNAME:EDT
DTSTART:20250309T070000
END:DAYLIGHT
BEGIN:STANDARD
TZOFFSETFROM:-0400
TZOFFSETTO:-0500
TZNAME:EST
DTSTART:20251102T060000
END:STANDARD
BEGIN:DAYLIGHT
TZOFFSETFROM:-0500
TZOFFSETTO:-0400
TZNAME:EDT
DTSTART:20260308T070000
END:DAYLIGHT
BEGIN:STANDARD
TZOFFSETFROM:-0400
TZOFFSETTO:-0500
TZNAME:EST
DTSTART:20261101T060000
END:STANDARD
BEGIN:DAYLIGHT
TZOFFSETFROM:-0500
TZOFFSETTO:-0400
TZNAME:EDT
DTSTART:20270314T070000
END:DAYLIGHT
BEGIN:STANDARD
TZOFFSETFROM:-0400
TZOFFSETTO:-0500
TZNAME:EST
DTSTART:20271107T060000
END:STANDARD
END:VTIMEZONE
BEGIN:VEVENT
DTSTART;TZID=America/New_York:20260603T190000
DTEND;TZID=America/New_York:20260603T200000
DTSTAMP:20260421T055826
CREATED:20251218T175344Z
LAST-MODIFIED:20251218T175344Z
UID:10000086-1780513200-1780516800@stpeters-smyrna.church
SUMMARY:AA Meeting
DESCRIPTION:Alcoholics Anonymous meetings are held here every Wednesday night. \n24 Hour-a-day Hot Line is 302-736-1567
URL:https://stpeters-smyrna.church/calendar/aa-meeting/2026-06-03/
LOCATION:St. Peter’s Episcopal Church\, 22 North Union Street\, Smyrna\, Delaware\, 19977\, United States
END:VEVENT
BEGIN:VEVENT
DTSTART;TZID=America/New_York:20260605T190000
DTEND;TZID=America/New_York:20260605T200000
DTSTAMP:20260421T055826
CREATED:20251218T175619Z
LAST-MODIFIED:20251218T175619Z
UID:10000348-1780686000-1780689600@stpeters-smyrna.church
SUMMARY:NA Meeting
DESCRIPTION:Narcotics Anonymous meetings are held here every Friday Night.
URL:https://stpeters-smyrna.church/calendar/na-meeting/2026-06-05/
LOCATION:St. Peter’s Episcopal Church\, 22 North Union Street\, Smyrna\, Delaware\, 19977\, United States
END:VEVENT
BEGIN:VEVENT
DTSTART;TZID=America/New_York:20260610T190000
DTEND;TZID=America/New_York:20260610T200000
DTSTAMP:20260421T055826
CREATED:20251218T175344Z
LAST-MODIFIED:20251218T175344Z
UID:10000087-1781118000-1781121600@stpeters-smyrna.church
SUMMARY:AA Meeting
DESCRIPTION:Alcoholics Anonymous meetings are held here every Wednesday night. \n24 Hour-a-day Hot Line is 302-736-1567
URL:https://stpeters-smyrna.church/calendar/aa-meeting/2026-06-10/
LOCATION:St. Peter’s Episcopal Church\, 22 North Union Street\, Smyrna\, Delaware\, 19977\, United States
END:VEVENT
BEGIN:VEVENT
DTSTART;TZID=America/New_York:20260612T190000
DTEND;TZID=America/New_York:20260612T200000
DTSTAMP:20260421T055826
CREATED:20251218T175619Z
LAST-MODIFIED:20251218T175619Z
UID:10000349-1781290800-1781294400@stpeters-smyrna.church
SUMMARY:NA Meeting
DESCRIPTION:Narcotics Anonymous meetings are held here every Friday Night.
URL:https://stpeters-smyrna.church/calendar/na-meeting/2026-06-12/
LOCATION:St. Peter’s Episcopal Church\, 22 North Union Street\, Smyrna\, Delaware\, 19977\, United States
END:VEVENT
BEGIN:VEVENT
DTSTART;TZID=America/New_York:20260617T190000
DTEND;TZID=America/New_York:20260617T200000
DTSTAMP:20260421T055826
CREATED:20251218T175344Z
LAST-MODIFIED:20251218T175344Z
UID:10000088-1781722800-1781726400@stpeters-smyrna.church
SUMMARY:AA Meeting
DESCRIPTION:Alcoholics Anonymous meetings are held here every Wednesday night. \n24 Hour-a-day Hot Line is 302-736-1567
URL:https://stpeters-smyrna.church/calendar/aa-meeting/2026-06-17/
LOCATION:St. Peter’s Episcopal Church\, 22 North Union Street\, Smyrna\, Delaware\, 19977\, United States
END:VEVENT
BEGIN:VEVENT
DTSTART;TZID=America/New_York:20260619T190000
DTEND;TZID=America/New_York:20260619T200000
DTSTAMP:20260421T055826
CREATED:20251218T175619Z
LAST-MODIFIED:20251218T175619Z
UID:10000350-1781895600-1781899200@stpeters-smyrna.church
SUMMARY:NA Meeting
DESCRIPTION:Narcotics Anonymous meetings are held here every Friday Night.
URL:https://stpeters-smyrna.church/calendar/na-meeting/2026-06-19/
LOCATION:St. Peter’s Episcopal Church\, 22 North Union Street\, Smyrna\, Delaware\, 19977\, United States
END:VEVENT
BEGIN:VEVENT
DTSTART;TZID=America/New_York:20260621T103000
DTEND;TZID=America/New_York:20260621T120000
DTSTAMP:20260421T055826
CREATED:20251030T181717Z
LAST-MODIFIED:20251030T181717Z
UID:10000008-1782037800-1782043200@stpeters-smyrna.church
SUMMARY:Vestry Meeting
DESCRIPTION:
URL:https://stpeters-smyrna.church/calendar/vestry-meeting/2026-06-21/
END:VEVENT
BEGIN:VEVENT
DTSTART;TZID=America/New_York:20260624T190000
DTEND;TZID=America/New_York:20260624T200000
DTSTAMP:20260421T055826
CREATED:20251218T175344Z
LAST-MODIFIED:20251218T175344Z
UID:10000089-1782327600-1782331200@stpeters-smyrna.church
SUMMARY:AA Meeting
DESCRIPTION:Alcoholics Anonymous meetings are held here every Wednesday night. \n24 Hour-a-day Hot Line is 302-736-1567
URL:https://stpeters-smyrna.church/calendar/aa-meeting/2026-06-24/
LOCATION:St. Peter’s Episcopal Church\, 22 North Union Street\, Smyrna\, Delaware\, 19977\, United States
END:VEVENT
BEGIN:VEVENT
DTSTART;TZID=America/New_York:20260626T190000
DTEND;TZID=America/New_York:20260626T200000
DTSTAMP:20260421T055826
CREATED:20251218T175619Z
LAST-MODIFIED:20251218T175619Z
UID:10000351-1782500400-1782504000@stpeters-smyrna.church
SUMMARY:NA Meeting
DESCRIPTION:Narcotics Anonymous meetings are held here every Friday Night.
URL:https://stpeters-smyrna.church/calendar/na-meeting/2026-06-26/
LOCATION:St. Peter’s Episcopal Church\, 22 North Union Street\, Smyrna\, Delaware\, 19977\, United States
END:VEVENT
END:VCALENDAR