BEGIN:VCALENDAR
VERSION:2.0
PRODID:-//St. Peter&#039;s Episcopal Church - ECPv6.15.20//NONSGML v1.0//EN
CALSCALE:GREGORIAN
METHOD:PUBLISH
X-WR-CALNAME:St. Peter&#039;s Episcopal Church
X-ORIGINAL-URL:https://stpeters-smyrna.church
X-WR-CALDESC:Events for St. Peter&#039;s Episcopal Church
REFRESH-INTERVAL;VALUE=DURATION:PT1H
X-Robots-Tag:noindex
X-PUBLISHED-TTL:PT1H
BEGIN:VTIMEZONE
TZID:America/New_York
BEGIN:DAYLIGHT
TZOFFSETFROM:-0500
TZOFFSETTO:-0400
TZNAME:EDT
DTSTART:20260308T070000
END:DAYLIGHT
BEGIN:STANDARD
TZOFFSETFROM:-0400
TZOFFSETTO:-0500
TZNAME:EST
DTSTART:20261101T060000
END:STANDARD
BEGIN:DAYLIGHT
TZOFFSETFROM:-0500
TZOFFSETTO:-0400
TZNAME:EDT
DTSTART:20270314T070000
END:DAYLIGHT
BEGIN:STANDARD
TZOFFSETFROM:-0400
TZOFFSETTO:-0500
TZNAME:EST
DTSTART:20271107T060000
END:STANDARD
BEGIN:DAYLIGHT
TZOFFSETFROM:-0500
TZOFFSETTO:-0400
TZNAME:EDT
DTSTART:20280312T070000
END:DAYLIGHT
BEGIN:STANDARD
TZOFFSETFROM:-0400
TZOFFSETTO:-0500
TZNAME:EST
DTSTART:20281105T060000
END:STANDARD
END:VTIMEZONE
BEGIN:VEVENT
DTSTART;TZID=America/New_York:20270203T190000
DTEND;TZID=America/New_York:20270203T200000
DTSTAMP:20260424T042135
CREATED:20251218T175344Z
LAST-MODIFIED:20251218T175344Z
UID:10000121-1801681200-1801684800@stpeters-smyrna.church
SUMMARY:AA Meeting
DESCRIPTION:Alcoholics Anonymous meetings are held here every Wednesday night. \n24 Hour-a-day Hot Line is 302-736-1567
URL:https://stpeters-smyrna.church/calendar/aa-meeting/2027-02-03/
LOCATION:St. Peter’s Episcopal Church\, 22 North Union Street\, Smyrna\, Delaware\, 19977\, United States
END:VEVENT
BEGIN:VEVENT
DTSTART;TZID=America/New_York:20270205T190000
DTEND;TZID=America/New_York:20270205T200000
DTSTAMP:20260424T042135
CREATED:20251218T175619Z
LAST-MODIFIED:20251218T175619Z
UID:10000383-1801854000-1801857600@stpeters-smyrna.church
SUMMARY:NA Meeting
DESCRIPTION:Narcotics Anonymous meetings are held here every Friday Night.
URL:https://stpeters-smyrna.church/calendar/na-meeting/2027-02-05/
LOCATION:St. Peter’s Episcopal Church\, 22 North Union Street\, Smyrna\, Delaware\, 19977\, United States
END:VEVENT
BEGIN:VEVENT
DTSTART;TZID=America/New_York:20270210T190000
DTEND;TZID=America/New_York:20270210T200000
DTSTAMP:20260424T042135
CREATED:20251218T175344Z
LAST-MODIFIED:20251218T175344Z
UID:10000122-1802286000-1802289600@stpeters-smyrna.church
SUMMARY:AA Meeting
DESCRIPTION:Alcoholics Anonymous meetings are held here every Wednesday night. \n24 Hour-a-day Hot Line is 302-736-1567
URL:https://stpeters-smyrna.church/calendar/aa-meeting/2027-02-10/
LOCATION:St. Peter’s Episcopal Church\, 22 North Union Street\, Smyrna\, Delaware\, 19977\, United States
END:VEVENT
BEGIN:VEVENT
DTSTART;TZID=America/New_York:20270212T190000
DTEND;TZID=America/New_York:20270212T200000
DTSTAMP:20260424T042135
CREATED:20251218T175619Z
LAST-MODIFIED:20251218T175619Z
UID:10000384-1802458800-1802462400@stpeters-smyrna.church
SUMMARY:NA Meeting
DESCRIPTION:Narcotics Anonymous meetings are held here every Friday Night.
URL:https://stpeters-smyrna.church/calendar/na-meeting/2027-02-12/
LOCATION:St. Peter’s Episcopal Church\, 22 North Union Street\, Smyrna\, Delaware\, 19977\, United States
END:VEVENT
BEGIN:VEVENT
DTSTART;TZID=America/New_York:20270217T190000
DTEND;TZID=America/New_York:20270217T200000
DTSTAMP:20260424T042135
CREATED:20251218T175344Z
LAST-MODIFIED:20251218T175344Z
UID:10000123-1802890800-1802894400@stpeters-smyrna.church
SUMMARY:AA Meeting
DESCRIPTION:Alcoholics Anonymous meetings are held here every Wednesday night. \n24 Hour-a-day Hot Line is 302-736-1567
URL:https://stpeters-smyrna.church/calendar/aa-meeting/2027-02-17/
LOCATION:St. Peter’s Episcopal Church\, 22 North Union Street\, Smyrna\, Delaware\, 19977\, United States
END:VEVENT
BEGIN:VEVENT
DTSTART;TZID=America/New_York:20270219T190000
DTEND;TZID=America/New_York:20270219T200000
DTSTAMP:20260424T042135
CREATED:20251218T175619Z
LAST-MODIFIED:20251218T175619Z
UID:10000385-1803063600-1803067200@stpeters-smyrna.church
SUMMARY:NA Meeting
DESCRIPTION:Narcotics Anonymous meetings are held here every Friday Night.
URL:https://stpeters-smyrna.church/calendar/na-meeting/2027-02-19/
LOCATION:St. Peter’s Episcopal Church\, 22 North Union Street\, Smyrna\, Delaware\, 19977\, United States
END:VEVENT
BEGIN:VEVENT
DTSTART;TZID=America/New_York:20270221T103000
DTEND;TZID=America/New_York:20270221T120000
DTSTAMP:20260424T042135
CREATED:20251030T181717Z
LAST-MODIFIED:20251030T181717Z
UID:10000016-1803205800-1803211200@stpeters-smyrna.church
SUMMARY:Vestry Meeting
DESCRIPTION:
URL:https://stpeters-smyrna.church/calendar/vestry-meeting/2027-02-21/
LOCATION:Delaware
END:VEVENT
BEGIN:VEVENT
DTSTART;TZID=America/New_York:20270224T190000
DTEND;TZID=America/New_York:20270224T200000
DTSTAMP:20260424T042135
CREATED:20251218T175344Z
LAST-MODIFIED:20251218T175344Z
UID:10000124-1803495600-1803499200@stpeters-smyrna.church
SUMMARY:AA Meeting
DESCRIPTION:Alcoholics Anonymous meetings are held here every Wednesday night. \n24 Hour-a-day Hot Line is 302-736-1567
URL:https://stpeters-smyrna.church/calendar/aa-meeting/2027-02-24/
LOCATION:St. Peter’s Episcopal Church\, 22 North Union Street\, Smyrna\, Delaware\, 19977\, United States
END:VEVENT
BEGIN:VEVENT
DTSTART;TZID=America/New_York:20270226T190000
DTEND;TZID=America/New_York:20270226T200000
DTSTAMP:20260424T042135
CREATED:20251218T175619Z
LAST-MODIFIED:20251218T175619Z
UID:10000386-1803668400-1803672000@stpeters-smyrna.church
SUMMARY:NA Meeting
DESCRIPTION:Narcotics Anonymous meetings are held here every Friday Night.
URL:https://stpeters-smyrna.church/calendar/na-meeting/2027-02-26/
LOCATION:St. Peter’s Episcopal Church\, 22 North Union Street\, Smyrna\, Delaware\, 19977\, United States
END:VEVENT
END:VCALENDAR