BEGIN:VCALENDAR
VERSION:2.0
PRODID:-//St. Peter&#039;s Episcopal Church - ECPv6.15.20//NONSGML v1.0//EN
CALSCALE:GREGORIAN
METHOD:PUBLISH
X-WR-CALNAME:St. Peter&#039;s Episcopal Church
X-ORIGINAL-URL:https://stpeters-smyrna.church
X-WR-CALDESC:Events for St. Peter&#039;s Episcopal Church
REFRESH-INTERVAL;VALUE=DURATION:PT1H
X-Robots-Tag:noindex
X-PUBLISHED-TTL:PT1H
BEGIN:VTIMEZONE
TZID:America/New_York
BEGIN:DAYLIGHT
TZOFFSETFROM:-0500
TZOFFSETTO:-0400
TZNAME:EDT
DTSTART:20260308T070000
END:DAYLIGHT
BEGIN:STANDARD
TZOFFSETFROM:-0400
TZOFFSETTO:-0500
TZNAME:EST
DTSTART:20261101T060000
END:STANDARD
BEGIN:DAYLIGHT
TZOFFSETFROM:-0500
TZOFFSETTO:-0400
TZNAME:EDT
DTSTART:20270314T070000
END:DAYLIGHT
BEGIN:STANDARD
TZOFFSETFROM:-0400
TZOFFSETTO:-0500
TZNAME:EST
DTSTART:20271107T060000
END:STANDARD
BEGIN:DAYLIGHT
TZOFFSETFROM:-0500
TZOFFSETTO:-0400
TZNAME:EDT
DTSTART:20280312T070000
END:DAYLIGHT
BEGIN:STANDARD
TZOFFSETFROM:-0400
TZOFFSETTO:-0500
TZNAME:EST
DTSTART:20281105T060000
END:STANDARD
END:VTIMEZONE
BEGIN:VEVENT
DTSTART;TZID=America/New_York:20270402T190000
DTEND;TZID=America/New_York:20270402T200000
DTSTAMP:20260422T044413
CREATED:20251218T175619Z
LAST-MODIFIED:20251218T175619Z
UID:10000391-1806692400-1806696000@stpeters-smyrna.church
SUMMARY:NA Meeting
DESCRIPTION:Narcotics Anonymous meetings are held here every Friday Night.
URL:https://stpeters-smyrna.church/calendar/na-meeting/2027-04-02/
LOCATION:St. Peter’s Episcopal Church\, 22 North Union Street\, Smyrna\, Delaware\, 19977\, United States
END:VEVENT
BEGIN:VEVENT
DTSTART;TZID=America/New_York:20270407T190000
DTEND;TZID=America/New_York:20270407T200000
DTSTAMP:20260422T044413
CREATED:20251218T175344Z
LAST-MODIFIED:20251218T175344Z
UID:10000130-1807124400-1807128000@stpeters-smyrna.church
SUMMARY:AA Meeting
DESCRIPTION:Alcoholics Anonymous meetings are held here every Wednesday night. \n24 Hour-a-day Hot Line is 302-736-1567
URL:https://stpeters-smyrna.church/calendar/aa-meeting/2027-04-07/
LOCATION:St. Peter’s Episcopal Church\, 22 North Union Street\, Smyrna\, Delaware\, 19977\, United States
END:VEVENT
BEGIN:VEVENT
DTSTART;TZID=America/New_York:20270409T190000
DTEND;TZID=America/New_York:20270409T200000
DTSTAMP:20260422T044413
CREATED:20251218T175619Z
LAST-MODIFIED:20251218T175619Z
UID:10000392-1807297200-1807300800@stpeters-smyrna.church
SUMMARY:NA Meeting
DESCRIPTION:Narcotics Anonymous meetings are held here every Friday Night.
URL:https://stpeters-smyrna.church/calendar/na-meeting/2027-04-09/
LOCATION:St. Peter’s Episcopal Church\, 22 North Union Street\, Smyrna\, Delaware\, 19977\, United States
END:VEVENT
BEGIN:VEVENT
DTSTART;TZID=America/New_York:20270414T190000
DTEND;TZID=America/New_York:20270414T200000
DTSTAMP:20260422T044413
CREATED:20251218T175344Z
LAST-MODIFIED:20251218T175344Z
UID:10000131-1807729200-1807732800@stpeters-smyrna.church
SUMMARY:AA Meeting
DESCRIPTION:Alcoholics Anonymous meetings are held here every Wednesday night. \n24 Hour-a-day Hot Line is 302-736-1567
URL:https://stpeters-smyrna.church/calendar/aa-meeting/2027-04-14/
LOCATION:St. Peter’s Episcopal Church\, 22 North Union Street\, Smyrna\, Delaware\, 19977\, United States
END:VEVENT
BEGIN:VEVENT
DTSTART;TZID=America/New_York:20270416T190000
DTEND;TZID=America/New_York:20270416T200000
DTSTAMP:20260422T044413
CREATED:20251218T175619Z
LAST-MODIFIED:20251218T175619Z
UID:10000393-1807902000-1807905600@stpeters-smyrna.church
SUMMARY:NA Meeting
DESCRIPTION:Narcotics Anonymous meetings are held here every Friday Night.
URL:https://stpeters-smyrna.church/calendar/na-meeting/2027-04-16/
LOCATION:St. Peter’s Episcopal Church\, 22 North Union Street\, Smyrna\, Delaware\, 19977\, United States
END:VEVENT
BEGIN:VEVENT
DTSTART;TZID=America/New_York:20270418T103000
DTEND;TZID=America/New_York:20270418T120000
DTSTAMP:20260422T044413
CREATED:20251030T181717Z
LAST-MODIFIED:20251030T181717Z
UID:10000018-1808044200-1808049600@stpeters-smyrna.church
SUMMARY:Vestry Meeting
DESCRIPTION:
URL:https://stpeters-smyrna.church/calendar/vestry-meeting/2027-04-18/
END:VEVENT
BEGIN:VEVENT
DTSTART;TZID=America/New_York:20270421T190000
DTEND;TZID=America/New_York:20270421T200000
DTSTAMP:20260422T044413
CREATED:20251218T175344Z
LAST-MODIFIED:20251218T175344Z
UID:10000132-1808334000-1808337600@stpeters-smyrna.church
SUMMARY:AA Meeting
DESCRIPTION:Alcoholics Anonymous meetings are held here every Wednesday night. \n24 Hour-a-day Hot Line is 302-736-1567
URL:https://stpeters-smyrna.church/calendar/aa-meeting/2027-04-21/
LOCATION:St. Peter’s Episcopal Church\, 22 North Union Street\, Smyrna\, Delaware\, 19977\, United States
END:VEVENT
BEGIN:VEVENT
DTSTART;TZID=America/New_York:20270423T190000
DTEND;TZID=America/New_York:20270423T200000
DTSTAMP:20260422T044413
CREATED:20251218T175619Z
LAST-MODIFIED:20251218T175619Z
UID:10000394-1808506800-1808510400@stpeters-smyrna.church
SUMMARY:NA Meeting
DESCRIPTION:Narcotics Anonymous meetings are held here every Friday Night.
URL:https://stpeters-smyrna.church/calendar/na-meeting/2027-04-23/
LOCATION:St. Peter’s Episcopal Church\, 22 North Union Street\, Smyrna\, Delaware\, 19977\, United States
END:VEVENT
BEGIN:VEVENT
DTSTART;TZID=America/New_York:20270428T190000
DTEND;TZID=America/New_York:20270428T200000
DTSTAMP:20260422T044413
CREATED:20251218T175344Z
LAST-MODIFIED:20251218T175344Z
UID:10000133-1808938800-1808942400@stpeters-smyrna.church
SUMMARY:AA Meeting
DESCRIPTION:Alcoholics Anonymous meetings are held here every Wednesday night. \n24 Hour-a-day Hot Line is 302-736-1567
URL:https://stpeters-smyrna.church/calendar/aa-meeting/2027-04-28/
LOCATION:St. Peter’s Episcopal Church\, 22 North Union Street\, Smyrna\, Delaware\, 19977\, United States
END:VEVENT
BEGIN:VEVENT
DTSTART;TZID=America/New_York:20270430T190000
DTEND;TZID=America/New_York:20270430T200000
DTSTAMP:20260422T044413
CREATED:20251218T175619Z
LAST-MODIFIED:20251218T175619Z
UID:10000395-1809111600-1809115200@stpeters-smyrna.church
SUMMARY:NA Meeting
DESCRIPTION:Narcotics Anonymous meetings are held here every Friday Night.
URL:https://stpeters-smyrna.church/calendar/na-meeting/2027-04-30/
LOCATION:St. Peter’s Episcopal Church\, 22 North Union Street\, Smyrna\, Delaware\, 19977\, United States
END:VEVENT
END:VCALENDAR